BEGIN:VCALENDAR
VERSION:2.0
PRODID:-//Emergency Medicine//NONSGML Events//EN
CALSCALE:GREGORIAN
X-ORIGINAL-URL:https://emergencymedicine.wustl.edu/calendar/
X-WR-CALDESC:Emergency Medicine - Events
BEGIN:VEVENT
UID:20211003T1336Z-1633268163.7174-EO-6924-1@172.23.128.19
STATUS:CONFIRMED
DTSTAMP:20260424T151055Z
CREATED:20200420T214704Z
LAST-MODIFIED:20200420T214704Z
DTSTART;TZID=America/Chicago:20190225T000000
DTEND;TZID=America/Chicago:20190225T000000
SUMMARY: STL Events
DESCRIPTION: Dr Dog indie rock at Delmar Hall\, 8p
X-ALT-DESC;FMTTYPE=text/html: <p><a href="https://www.youtube.com/watch?v=s
 shW2Nz4_Rg&list=PLBuI2lQEJkhOJy0-pqeWaXo9B8SiDY8-9&index=20">Dr Dog</a> ind
 ie rock at <a href="https://www.thepageant.com/event/dr-dog-022519/">Delmar
  Hall</a>\, 8p</p>
CATEGORIES:STL Events
ORGANIZER;CN="Brian":MAILTO:bmarston@wustl.edu
URL;VALUE=URI:https://emergencymedicine.wustl.edu/events/event/stl-events/
END:VEVENT
BEGIN:VTIMEZONE
TZID:America/Chicago
BEGIN:STANDARD
TZOFFSETFROM:-0500
TZOFFSETTO:-0600
DTSTART:20181104T070000
TZNAME:CST
END:STANDARD
END:VTIMEZONE
END:VCALENDAR
