BEGIN:VCALENDAR
VERSION:2.0
PRODID:-//Emergency Medicine//NONSGML Events//EN
CALSCALE:GREGORIAN
X-ORIGINAL-URL:https://emergencymedicine.wustl.edu/calendar/
X-WR-CALDESC:Emergency Medicine - Events
BEGIN:VEVENT
UID:20211026T1716Z-1635268586.6206-EO-6930-1@172.23.128.18
STATUS:CONFIRMED
DTSTAMP:20260424T174743Z
CREATED:20200420T214705Z
LAST-MODIFIED:20200420T214705Z
DTSTART;TZID=America/Chicago:20181230T000000
DTEND;TZID=America/Chicago:20181230T000000
SUMMARY: STL Events
DESCRIPTION: Kwanzaa Celebration\, SLAM\, 12-4p Wonderland: Aliceâs Rock 
 & Roll Adventure at the Grandel\, Wed-Sun\, 2p Tilles Park Ladue Holiday Li
 ghts by driving tour Tuess-Fri & Sun 5:30p-9:30p or Trolley Tour\, Fri 6-7p
  & 7:30-9p\, Sun 6-7p Lil Baby rapper\, the Ambassador\, 7p Yonder Mountain
  String Band jam band at Delmar Hall\, Sun & Mon 8p
X-ALT-DESC;FMTTYPE=text/html: <p>Kwanzaa Celebration\, SLAM\, 12-4p</p><p>W
 onderland: Aliceâs Rock & Roll Adventure at the Grandel\, Wed-Sun\, 2p</p
 ><p>Tilles Park Ladue Holiday Lights by driving tour Tuess-Fri & Sun 5:30p-
 9:30p or Trolley Tour\, Fri 6-7p & 7:30-9p\, Sun 6-7p</p><p>Lil Baby rapper
 \, the Ambassador\, 7p</p><p>Yonder Mountain String Band jam band at Delmar
  Hall\, Sun & Mon 8p</p>
CATEGORIES:STL Events
ORGANIZER;CN="Brian":MAILTO:bmarston@wustl.edu
URL;VALUE=URI:https://emergencymedicine.wustl.edu/events/event/stl-events-7
 /
END:VEVENT
BEGIN:VTIMEZONE
TZID:America/Chicago
BEGIN:STANDARD
TZOFFSETFROM:-0500
TZOFFSETTO:-0600
DTSTART:20181104T070000
TZNAME:CST
END:STANDARD
END:VTIMEZONE
END:VCALENDAR
