BEGIN:VCALENDAR
VERSION:2.0
PRODID:-//Emergency Medicine//NONSGML Events//EN
CALSCALE:GREGORIAN
X-ORIGINAL-URL:https://emergencymedicine.wustl.edu/calendar/
X-WR-CALDESC:Emergency Medicine - Events
BEGIN:VEVENT
UID:20230710T1924Z-1689017044.8342-EO-32023-1@172.23.128.18
STATUS:CONFIRMED
DTSTAMP:20260422T122432Z
CREATED:20230710T191733Z
LAST-MODIFIED:20230710T191733Z
DTSTART;VALUE=DATE:20230912
DTEND;VALUE=DATE:20230913
SUMMARY: Simulation Day! (Cardiology Theme)
X-ALT-DESC;FMTTYPE=text/html: 
CATEGORIES:Education Operations
ORGANIZER;CN="Margaret":MAILTO:toigo@wustl.edu
URL;VALUE=URI:https://emergencymedicine.wustl.edu/events/event/simulation-d
 ay-cardiology-theme/
END:VEVENT
BEGIN:VTIMEZONE
TZID:America/Chicago
BEGIN:DAYLIGHT
TZOFFSETFROM:-0600
TZOFFSETTO:-0500
DTSTART:20230312T080000
TZNAME:CDT
END:DAYLIGHT
END:VTIMEZONE
END:VCALENDAR
