BEGIN:VCALENDAR
VERSION:2.0
PRODID:-//Emergency Medicine//NONSGML Events//EN
CALSCALE:GREGORIAN
X-ORIGINAL-URL:https://emergencymedicine.wustl.edu/calendar/
X-WR-CALDESC:Emergency Medicine - Events
BEGIN:VEVENT
UID:20250729T1623Z-1753806196.6684-EO-40286-1@10.73.8.224
STATUS:CONFIRMED
DTSTAMP:20260424T174740Z
CREATED:20250729T151426Z
LAST-MODIFIED:20250729T151426Z
DTSTART;TZID=America/Chicago:20251118T153000
DTEND;TZID=America/Chicago:20251118T163000
SUMMARY: Faculty Development Skills: Transthoracic Echo
DESCRIPTION: We will focus on hands-on image acquisition/troubleshooting an
 d image interpretation\, emphasizing the clinical decisions behind the imag
 es we see.
X-ALT-DESC;FMTTYPE=text/html: <p>We will focus on hands-on image acquisitio
 n/troubleshooting and image interpretation\, emphasizing the clinical decis
 ions behind the images we see.</p>
CATEGORIES:Faculty Development
LOCATION:Resident Lounge - Wohl Hospital
GEO:0.000000;0.000000
ORGANIZER;CN="Kimberly Vaninger":MAILTO:vaningerk@wustl.edu
URL;VALUE=URI:https://emergencymedicine.wustl.edu/events/event/faculty-deve
 lopment-skills-transthoracic-echo-3/
END:VEVENT
BEGIN:VTIMEZONE
TZID:America/Chicago
BEGIN:STANDARD
TZOFFSETFROM:-0500
TZOFFSETTO:-0600
DTSTART:20251102T070000
TZNAME:CST
END:STANDARD
END:VTIMEZONE
END:VCALENDAR
