BEGIN:VCALENDAR
VERSION:2.0
PRODID:-//Emergency Medicine//NONSGML Events//EN
CALSCALE:GREGORIAN
X-ORIGINAL-URL:https://emergencymedicine.wustl.edu/calendar/
X-WR-CALDESC:Emergency Medicine - Events
BEGIN:VEVENT
UID:20250729T1453Z-1753800825.7247-EO-40281-1@10.73.8.224
STATUS:CONFIRMED
DTSTAMP:20260424T174740Z
CREATED:20250729T145335Z
LAST-MODIFIED:20250729T145335Z
DTSTART;TZID=America/Chicago:20251003T113000
DTEND;TZID=America/Chicago:20251003T143000
SUMMARY: Faculty Development Skills:  Perfused Cadaver Lab
DESCRIPTION: Thanks to the hard work of Dr. Alex Croft\, this is a unique o
 pportunity to practice high acuity low occurrence (HALO) procedures on a pe
 rfused cadaver. Exact times are subject to change.
X-ALT-DESC;FMTTYPE=text/html: <p>Thanks to the hard work of Dr. Alex Croft\
 , this is a unique opportunity to practice high acuity low occurrence (HALO
 ) procedures on a perfused cadaver. Exact times are subject to change.</p>
CATEGORIES:Faculty Development
LOCATION:WISE lab (CSRB)
GEO:38.637296;-90.265310
ORGANIZER;CN="Kimberly Vaninger":MAILTO:vaningerk@wustl.edu
URL;VALUE=URI:https://emergencymedicine.wustl.edu/events/event/faculty-deve
 lopment-skills-perfused-cadaver-lab-2/
END:VEVENT
BEGIN:VTIMEZONE
TZID:America/Chicago
BEGIN:DAYLIGHT
TZOFFSETFROM:-0600
TZOFFSETTO:-0500
DTSTART:20250309T080000
TZNAME:CDT
END:DAYLIGHT
END:VTIMEZONE
END:VCALENDAR
