BEGIN:VCALENDAR
VERSION:2.0
PRODID:-//Emergency Medicine//NONSGML Events//EN
CALSCALE:GREGORIAN
X-ORIGINAL-URL:https://emergencymedicine.wustl.edu/calendar/
X-WR-CALDESC:Emergency Medicine - Events
BEGIN:VEVENT
UID:20250111T2041Z-1736628094.8388-EO-38862-1@10.73.9.141
STATUS:CONFIRMED
DTSTAMP:20260422T171152Z
CREATED:20250111T195232Z
LAST-MODIFIED:20250111T195232Z
DTSTART;TZID=America/Chicago:20250121T140000
DTEND;TZID=America/Chicago:20250121T150000
SUMMARY: Faculty Development:  Mentorship 2.0
DESCRIPTION: This didactic session (via zoom) will emphasize case-based ana
 lysis of common scenarios and exploration of mentoring systems that could w
 ork for our group.
X-ALT-DESC;FMTTYPE=text/html: <p>This didactic session (via zoom) will emph
 asize case-based analysis of common scenarios and exploration of mentoring 
 systems that could work for our group.</p>
CATEGORIES:Faculty Development
ORGANIZER;CN="Kimberly Vaninger":MAILTO:vaningerk@wustl.edu
URL;VALUE=URI:https://emergencymedicine.wustl.edu/events/event/faculty-deve
 lopment-mentorship-2-0-2/
END:VEVENT
BEGIN:VTIMEZONE
TZID:America/Chicago
BEGIN:STANDARD
TZOFFSETFROM:-0500
TZOFFSETTO:-0600
DTSTART:20241103T070000
TZNAME:CST
END:STANDARD
END:VTIMEZONE
END:VCALENDAR
